BEGIN:VCALENDAR
VERSION:2.0
PRODID:-//Wisconsin Board for People with Developmental Disabilities - ECPv6.15.20//NONSGML v1.0//EN
CALSCALE:GREGORIAN
METHOD:PUBLISH
X-WR-CALNAME:Wisconsin Board for People with Developmental Disabilities
X-ORIGINAL-URL:https://wi-bpdd.org
X-WR-CALDESC:Events for Wisconsin Board for People with Developmental Disabilities
REFRESH-INTERVAL;VALUE=DURATION:PT1H
X-Robots-Tag:noindex
X-PUBLISHED-TTL:PT1H
BEGIN:VTIMEZONE
TZID:America/Chicago
BEGIN:DAYLIGHT
TZOFFSETFROM:-0600
TZOFFSETTO:-0500
TZNAME:CDT
DTSTART:20220313T080000
END:DAYLIGHT
BEGIN:STANDARD
TZOFFSETFROM:-0500
TZOFFSETTO:-0600
TZNAME:CST
DTSTART:20221106T070000
END:STANDARD
BEGIN:DAYLIGHT
TZOFFSETFROM:-0600
TZOFFSETTO:-0500
TZNAME:CDT
DTSTART:20230312T080000
END:DAYLIGHT
BEGIN:STANDARD
TZOFFSETFROM:-0500
TZOFFSETTO:-0600
TZNAME:CST
DTSTART:20231105T070000
END:STANDARD
BEGIN:DAYLIGHT
TZOFFSETFROM:-0600
TZOFFSETTO:-0500
TZNAME:CDT
DTSTART:20240310T080000
END:DAYLIGHT
BEGIN:STANDARD
TZOFFSETFROM:-0500
TZOFFSETTO:-0600
TZNAME:CST
DTSTART:20241103T070000
END:STANDARD
END:VTIMEZONE
BEGIN:VEVENT
DTSTART;TZID=America/Chicago:20230118T150000
DTEND;TZID=America/Chicago:20230119T140000
DTSTAMP:20260420T190535
CREATED:20230111T193919Z
LAST-MODIFIED:20230926T200149Z
UID:12396-1674054000-1674136800@wi-bpdd.org
SUMMARY:January Board Meeting
DESCRIPTION:The Wisconsin Board for People with Developmental Disabilities will hold its January Board meeting on January 18th from 3-5 pm and January 19th from 8:30am-12:30pm virtually. \nIf you’d like to submit public comment you can contact Jeremy at 608-266-7826 or Jeremy.Gundlach@wisconsin.gov. \n			\n			\n				\n				\n				\n				\n			\n				\n				\n				\n				\n				\n				\n				\n				\n				\n				\n				\n					h\n					\n						Meeting Agenda\n						\n					\n				\n			\n			\n				\n				\n				\n				\n				\n				\n				\n				\n				\n				\n					h\n					\n						Public Notice\n						\n					\n				\n			\n			\n				\n				\n				\n				\n				\n				\n				\n				\n				\n				\n					h\n					\n						Minutes\n						\n					\n				\n			\n				\n				\n				\n				\n				\n					h\n					\n						Packet
URL:https://wi-bpdd.org/index.php/events/january-board-meeting-4/
CATEGORIES:Board Meeting
END:VEVENT
END:VCALENDAR